BEGIN:VCALENDAR
VERSION:2.0
PRODID:-//Blaydon Tennis Club - ECPv6.15.16//NONSGML v1.0//EN
CALSCALE:GREGORIAN
METHOD:PUBLISH
X-WR-CALNAME:Blaydon Tennis Club
X-ORIGINAL-URL:https://www.blaydontennisclub.org.uk
X-WR-CALDESC:Events for Blaydon Tennis Club
REFRESH-INTERVAL;VALUE=DURATION:PT1H
X-Robots-Tag:noindex
X-PUBLISHED-TTL:PT1H
BEGIN:VTIMEZONE
TZID:UTC
BEGIN:STANDARD
TZOFFSETFROM:+0000
TZOFFSETTO:+0000
TZNAME:UTC
DTSTART:20250101T000000
END:STANDARD
END:VTIMEZONE
BEGIN:VEVENT
DTSTART;TZID=UTC:20260422T163000
DTEND;TZID=UTC:20260422T180000
DTSTAMP:20260420T081423
CREATED:20260118T141828Z
LAST-MODIFIED:20260120T120359Z
UID:10005785-1776875400-1776880800@www.blaydontennisclub.org.uk
SUMMARY:Wednesday Under 12's Team
DESCRIPTION:
URL:https://www.blaydontennisclub.org.uk/event/wednesday-under-12s-team/2026-04-22/
LOCATION:Blaydon Tennis Club\, Blaydon Tennis Club
CATEGORIES:Coaching
END:VEVENT
BEGIN:VEVENT
DTSTART;TZID=UTC:20260429T163000
DTEND;TZID=UTC:20260429T180000
DTSTAMP:20260420T081423
CREATED:20260118T141828Z
LAST-MODIFIED:20260120T120359Z
UID:10005786-1777480200-1777485600@www.blaydontennisclub.org.uk
SUMMARY:Wednesday Under 12's Team
DESCRIPTION:
URL:https://www.blaydontennisclub.org.uk/event/wednesday-under-12s-team/2026-04-29/
LOCATION:Blaydon Tennis Club\, Blaydon Tennis Club
CATEGORIES:Coaching
END:VEVENT
BEGIN:VEVENT
DTSTART;TZID=UTC:20260506T163000
DTEND;TZID=UTC:20260506T180000
DTSTAMP:20260420T081423
CREATED:20260118T141828Z
LAST-MODIFIED:20260120T120359Z
UID:10005787-1778085000-1778090400@www.blaydontennisclub.org.uk
SUMMARY:Wednesday Under 12's Team
DESCRIPTION:
URL:https://www.blaydontennisclub.org.uk/event/wednesday-under-12s-team/2026-05-06/
LOCATION:Blaydon Tennis Club\, Blaydon Tennis Club
CATEGORIES:Coaching
END:VEVENT
BEGIN:VEVENT
DTSTART;TZID=UTC:20260513T163000
DTEND;TZID=UTC:20260513T180000
DTSTAMP:20260420T081423
CREATED:20260118T141828Z
LAST-MODIFIED:20260120T120359Z
UID:10005788-1778689800-1778695200@www.blaydontennisclub.org.uk
SUMMARY:Wednesday Under 12's Team
DESCRIPTION:
URL:https://www.blaydontennisclub.org.uk/event/wednesday-under-12s-team/2026-05-13/
LOCATION:Blaydon Tennis Club\, Blaydon Tennis Club
CATEGORIES:Coaching
END:VEVENT
BEGIN:VEVENT
DTSTART;TZID=UTC:20260520T163000
DTEND;TZID=UTC:20260520T180000
DTSTAMP:20260420T081423
CREATED:20260118T141828Z
LAST-MODIFIED:20260120T120359Z
UID:10005789-1779294600-1779300000@www.blaydontennisclub.org.uk
SUMMARY:Wednesday Under 12's Team
DESCRIPTION:
URL:https://www.blaydontennisclub.org.uk/event/wednesday-under-12s-team/2026-05-20/
LOCATION:Blaydon Tennis Club\, Blaydon Tennis Club
CATEGORIES:Coaching
END:VEVENT
BEGIN:VEVENT
DTSTART;TZID=UTC:20260527T163000
DTEND;TZID=UTC:20260527T180000
DTSTAMP:20260420T081423
CREATED:20260118T141828Z
LAST-MODIFIED:20260120T120359Z
UID:10005790-1779899400-1779904800@www.blaydontennisclub.org.uk
SUMMARY:Wednesday Under 12's Team
DESCRIPTION:
URL:https://www.blaydontennisclub.org.uk/event/wednesday-under-12s-team/2026-05-27/
LOCATION:Blaydon Tennis Club\, Blaydon Tennis Club
CATEGORIES:Coaching
END:VEVENT
BEGIN:VEVENT
DTSTART;TZID=UTC:20260603T163000
DTEND;TZID=UTC:20260603T180000
DTSTAMP:20260420T081423
CREATED:20260118T141828Z
LAST-MODIFIED:20260120T120359Z
UID:10005791-1780504200-1780509600@www.blaydontennisclub.org.uk
SUMMARY:Wednesday Under 12's Team
DESCRIPTION:
URL:https://www.blaydontennisclub.org.uk/event/wednesday-under-12s-team/2026-06-03/
LOCATION:Blaydon Tennis Club\, Blaydon Tennis Club
CATEGORIES:Coaching
END:VEVENT
BEGIN:VEVENT
DTSTART;TZID=UTC:20260610T163000
DTEND;TZID=UTC:20260610T180000
DTSTAMP:20260420T081423
CREATED:20260118T141828Z
LAST-MODIFIED:20260120T120359Z
UID:10005792-1781109000-1781114400@www.blaydontennisclub.org.uk
SUMMARY:Wednesday Under 12's Team
DESCRIPTION:
URL:https://www.blaydontennisclub.org.uk/event/wednesday-under-12s-team/2026-06-10/
LOCATION:Blaydon Tennis Club\, Blaydon Tennis Club
CATEGORIES:Coaching
END:VEVENT
BEGIN:VEVENT
DTSTART;TZID=UTC:20260617T163000
DTEND;TZID=UTC:20260617T180000
DTSTAMP:20260420T081423
CREATED:20260118T141828Z
LAST-MODIFIED:20260120T120359Z
UID:10005793-1781713800-1781719200@www.blaydontennisclub.org.uk
SUMMARY:Wednesday Under 12's Team
DESCRIPTION:
URL:https://www.blaydontennisclub.org.uk/event/wednesday-under-12s-team/2026-06-17/
LOCATION:Blaydon Tennis Club\, Blaydon Tennis Club
CATEGORIES:Coaching
END:VEVENT
BEGIN:VEVENT
DTSTART;TZID=UTC:20260624T163000
DTEND;TZID=UTC:20260624T180000
DTSTAMP:20260420T081423
CREATED:20260118T141828Z
LAST-MODIFIED:20260120T120359Z
UID:10005794-1782318600-1782324000@www.blaydontennisclub.org.uk
SUMMARY:Wednesday Under 12's Team
DESCRIPTION:
URL:https://www.blaydontennisclub.org.uk/event/wednesday-under-12s-team/2026-06-24/
LOCATION:Blaydon Tennis Club\, Blaydon Tennis Club
CATEGORIES:Coaching
END:VEVENT
BEGIN:VEVENT
DTSTART;TZID=UTC:20260701T163000
DTEND;TZID=UTC:20260701T180000
DTSTAMP:20260420T081423
CREATED:20260118T141828Z
LAST-MODIFIED:20260120T120359Z
UID:10005795-1782923400-1782928800@www.blaydontennisclub.org.uk
SUMMARY:Wednesday Under 12's Team
DESCRIPTION:
URL:https://www.blaydontennisclub.org.uk/event/wednesday-under-12s-team/2026-07-01/
LOCATION:Blaydon Tennis Club\, Blaydon Tennis Club
CATEGORIES:Coaching
END:VEVENT
BEGIN:VEVENT
DTSTART;TZID=UTC:20260708T163000
DTEND;TZID=UTC:20260708T180000
DTSTAMP:20260420T081423
CREATED:20260118T141828Z
LAST-MODIFIED:20260120T120359Z
UID:10005796-1783528200-1783533600@www.blaydontennisclub.org.uk
SUMMARY:Wednesday Under 12's Team
DESCRIPTION:
URL:https://www.blaydontennisclub.org.uk/event/wednesday-under-12s-team/2026-07-08/
LOCATION:Blaydon Tennis Club\, Blaydon Tennis Club
CATEGORIES:Coaching
END:VEVENT
BEGIN:VEVENT
DTSTART;TZID=UTC:20260715T163000
DTEND;TZID=UTC:20260715T180000
DTSTAMP:20260420T081423
CREATED:20260118T141828Z
LAST-MODIFIED:20260120T120359Z
UID:10005797-1784133000-1784138400@www.blaydontennisclub.org.uk
SUMMARY:Wednesday Under 12's Team
DESCRIPTION:
URL:https://www.blaydontennisclub.org.uk/event/wednesday-under-12s-team/2026-07-15/
LOCATION:Blaydon Tennis Club\, Blaydon Tennis Club
CATEGORIES:Coaching
END:VEVENT
BEGIN:VEVENT
DTSTART;TZID=UTC:20260722T163000
DTEND;TZID=UTC:20260722T180000
DTSTAMP:20260420T081423
CREATED:20260118T141828Z
LAST-MODIFIED:20260120T120359Z
UID:10005798-1784737800-1784743200@www.blaydontennisclub.org.uk
SUMMARY:Wednesday Under 12's Team
DESCRIPTION:
URL:https://www.blaydontennisclub.org.uk/event/wednesday-under-12s-team/2026-07-22/
LOCATION:Blaydon Tennis Club\, Blaydon Tennis Club
CATEGORIES:Coaching
END:VEVENT
BEGIN:VEVENT
DTSTART;TZID=UTC:20260729T163000
DTEND;TZID=UTC:20260729T180000
DTSTAMP:20260420T081423
CREATED:20260118T141828Z
LAST-MODIFIED:20260120T120359Z
UID:10005799-1785342600-1785348000@www.blaydontennisclub.org.uk
SUMMARY:Wednesday Under 12's Team
DESCRIPTION:
URL:https://www.blaydontennisclub.org.uk/event/wednesday-under-12s-team/2026-07-29/
LOCATION:Blaydon Tennis Club\, Blaydon Tennis Club
CATEGORIES:Coaching
END:VEVENT
BEGIN:VEVENT
DTSTART;TZID=UTC:20260805T163000
DTEND;TZID=UTC:20260805T180000
DTSTAMP:20260420T081423
CREATED:20260118T141828Z
LAST-MODIFIED:20260120T120359Z
UID:10005800-1785947400-1785952800@www.blaydontennisclub.org.uk
SUMMARY:Wednesday Under 12's Team
DESCRIPTION:
URL:https://www.blaydontennisclub.org.uk/event/wednesday-under-12s-team/2026-08-05/
LOCATION:Blaydon Tennis Club\, Blaydon Tennis Club
CATEGORIES:Coaching
END:VEVENT
BEGIN:VEVENT
DTSTART;TZID=UTC:20260812T163000
DTEND;TZID=UTC:20260812T180000
DTSTAMP:20260420T081423
CREATED:20260118T141828Z
LAST-MODIFIED:20260120T120359Z
UID:10005801-1786552200-1786557600@www.blaydontennisclub.org.uk
SUMMARY:Wednesday Under 12's Team
DESCRIPTION:
URL:https://www.blaydontennisclub.org.uk/event/wednesday-under-12s-team/2026-08-12/
LOCATION:Blaydon Tennis Club\, Blaydon Tennis Club
CATEGORIES:Coaching
END:VEVENT
BEGIN:VEVENT
DTSTART;TZID=UTC:20260819T163000
DTEND;TZID=UTC:20260819T180000
DTSTAMP:20260420T081423
CREATED:20260118T141828Z
LAST-MODIFIED:20260120T120359Z
UID:10005802-1787157000-1787162400@www.blaydontennisclub.org.uk
SUMMARY:Wednesday Under 12's Team
DESCRIPTION:
URL:https://www.blaydontennisclub.org.uk/event/wednesday-under-12s-team/2026-08-19/
LOCATION:Blaydon Tennis Club\, Blaydon Tennis Club
CATEGORIES:Coaching
END:VEVENT
BEGIN:VEVENT
DTSTART;TZID=UTC:20260826T163000
DTEND;TZID=UTC:20260826T180000
DTSTAMP:20260420T081423
CREATED:20260118T141828Z
LAST-MODIFIED:20260120T120359Z
UID:10005803-1787761800-1787767200@www.blaydontennisclub.org.uk
SUMMARY:Wednesday Under 12's Team
DESCRIPTION:
URL:https://www.blaydontennisclub.org.uk/event/wednesday-under-12s-team/2026-08-26/
LOCATION:Blaydon Tennis Club\, Blaydon Tennis Club
CATEGORIES:Coaching
END:VEVENT
BEGIN:VEVENT
DTSTART;TZID=UTC:20260902T163000
DTEND;TZID=UTC:20260902T180000
DTSTAMP:20260420T081423
CREATED:20260118T141828Z
LAST-MODIFIED:20260120T120359Z
UID:10005804-1788366600-1788372000@www.blaydontennisclub.org.uk
SUMMARY:Wednesday Under 12's Team
DESCRIPTION:
URL:https://www.blaydontennisclub.org.uk/event/wednesday-under-12s-team/2026-09-02/
LOCATION:Blaydon Tennis Club\, Blaydon Tennis Club
CATEGORIES:Coaching
END:VEVENT
BEGIN:VEVENT
DTSTART;TZID=UTC:20260909T163000
DTEND;TZID=UTC:20260909T180000
DTSTAMP:20260420T081423
CREATED:20260118T141828Z
LAST-MODIFIED:20260120T120359Z
UID:10005805-1788971400-1788976800@www.blaydontennisclub.org.uk
SUMMARY:Wednesday Under 12's Team
DESCRIPTION:
URL:https://www.blaydontennisclub.org.uk/event/wednesday-under-12s-team/2026-09-09/
LOCATION:Blaydon Tennis Club\, Blaydon Tennis Club
CATEGORIES:Coaching
END:VEVENT
BEGIN:VEVENT
DTSTART;TZID=UTC:20260916T163000
DTEND;TZID=UTC:20260916T180000
DTSTAMP:20260420T081423
CREATED:20260118T141828Z
LAST-MODIFIED:20260120T120359Z
UID:10005806-1789576200-1789581600@www.blaydontennisclub.org.uk
SUMMARY:Wednesday Under 12's Team
DESCRIPTION:
URL:https://www.blaydontennisclub.org.uk/event/wednesday-under-12s-team/2026-09-16/
LOCATION:Blaydon Tennis Club\, Blaydon Tennis Club
CATEGORIES:Coaching
END:VEVENT
BEGIN:VEVENT
DTSTART;TZID=UTC:20260923T163000
DTEND;TZID=UTC:20260923T180000
DTSTAMP:20260420T081423
CREATED:20260118T141828Z
LAST-MODIFIED:20260120T120359Z
UID:10005807-1790181000-1790186400@www.blaydontennisclub.org.uk
SUMMARY:Wednesday Under 12's Team
DESCRIPTION:
URL:https://www.blaydontennisclub.org.uk/event/wednesday-under-12s-team/2026-09-23/
LOCATION:Blaydon Tennis Club\, Blaydon Tennis Club
CATEGORIES:Coaching
END:VEVENT
BEGIN:VEVENT
DTSTART;TZID=UTC:20260930T163000
DTEND;TZID=UTC:20260930T180000
DTSTAMP:20260420T081423
CREATED:20260118T141828Z
LAST-MODIFIED:20260120T120359Z
UID:10005808-1790785800-1790791200@www.blaydontennisclub.org.uk
SUMMARY:Wednesday Under 12's Team
DESCRIPTION:
URL:https://www.blaydontennisclub.org.uk/event/wednesday-under-12s-team/2026-09-30/
LOCATION:Blaydon Tennis Club\, Blaydon Tennis Club
CATEGORIES:Coaching
END:VEVENT
BEGIN:VEVENT
DTSTART;TZID=UTC:20261007T163000
DTEND;TZID=UTC:20261007T180000
DTSTAMP:20260420T081423
CREATED:20260118T141828Z
LAST-MODIFIED:20260120T120359Z
UID:10005809-1791390600-1791396000@www.blaydontennisclub.org.uk
SUMMARY:Wednesday Under 12's Team
DESCRIPTION:
URL:https://www.blaydontennisclub.org.uk/event/wednesday-under-12s-team/2026-10-07/
LOCATION:Blaydon Tennis Club\, Blaydon Tennis Club
CATEGORIES:Coaching
END:VEVENT
BEGIN:VEVENT
DTSTART;TZID=UTC:20261014T163000
DTEND;TZID=UTC:20261014T180000
DTSTAMP:20260420T081423
CREATED:20260118T141828Z
LAST-MODIFIED:20260120T120359Z
UID:10005810-1791995400-1792000800@www.blaydontennisclub.org.uk
SUMMARY:Wednesday Under 12's Team
DESCRIPTION:
URL:https://www.blaydontennisclub.org.uk/event/wednesday-under-12s-team/2026-10-14/
LOCATION:Blaydon Tennis Club\, Blaydon Tennis Club
CATEGORIES:Coaching
END:VEVENT
BEGIN:VEVENT
DTSTART;TZID=UTC:20261021T163000
DTEND;TZID=UTC:20261021T180000
DTSTAMP:20260420T081423
CREATED:20260118T141828Z
LAST-MODIFIED:20260120T120359Z
UID:10005811-1792600200-1792605600@www.blaydontennisclub.org.uk
SUMMARY:Wednesday Under 12's Team
DESCRIPTION:
URL:https://www.blaydontennisclub.org.uk/event/wednesday-under-12s-team/2026-10-21/
LOCATION:Blaydon Tennis Club\, Blaydon Tennis Club
CATEGORIES:Coaching
END:VEVENT
BEGIN:VEVENT
DTSTART;TZID=UTC:20261028T163000
DTEND;TZID=UTC:20261028T180000
DTSTAMP:20260420T081423
CREATED:20260118T141828Z
LAST-MODIFIED:20260120T120359Z
UID:10005812-1793205000-1793210400@www.blaydontennisclub.org.uk
SUMMARY:Wednesday Under 12's Team
DESCRIPTION:
URL:https://www.blaydontennisclub.org.uk/event/wednesday-under-12s-team/2026-10-28/
LOCATION:Blaydon Tennis Club\, Blaydon Tennis Club
CATEGORIES:Coaching
END:VEVENT
BEGIN:VEVENT
DTSTART;TZID=UTC:20261104T163000
DTEND;TZID=UTC:20261104T180000
DTSTAMP:20260420T081423
CREATED:20260118T141828Z
LAST-MODIFIED:20260120T120359Z
UID:10005813-1793809800-1793815200@www.blaydontennisclub.org.uk
SUMMARY:Wednesday Under 12's Team
DESCRIPTION:
URL:https://www.blaydontennisclub.org.uk/event/wednesday-under-12s-team/2026-11-04/
LOCATION:Blaydon Tennis Club\, Blaydon Tennis Club
CATEGORIES:Coaching
END:VEVENT
BEGIN:VEVENT
DTSTART;TZID=UTC:20261111T163000
DTEND;TZID=UTC:20261111T180000
DTSTAMP:20260420T081423
CREATED:20260118T141828Z
LAST-MODIFIED:20260120T120359Z
UID:10005814-1794414600-1794420000@www.blaydontennisclub.org.uk
SUMMARY:Wednesday Under 12's Team
DESCRIPTION:
URL:https://www.blaydontennisclub.org.uk/event/wednesday-under-12s-team/2026-11-11/
LOCATION:Blaydon Tennis Club\, Blaydon Tennis Club
CATEGORIES:Coaching
END:VEVENT
END:VCALENDAR