BEGIN:VCALENDAR
VERSION:2.0
PRODID:-//Blaydon Tennis Club - ECPv6.15.16//NONSGML v1.0//EN
CALSCALE:GREGORIAN
METHOD:PUBLISH
X-WR-CALNAME:Blaydon Tennis Club
X-ORIGINAL-URL:https://www.blaydontennisclub.org.uk
X-WR-CALDESC:Events for Blaydon Tennis Club
REFRESH-INTERVAL;VALUE=DURATION:PT1H
X-Robots-Tag:noindex
X-PUBLISHED-TTL:PT1H
BEGIN:VTIMEZONE
TZID:UTC
BEGIN:STANDARD
TZOFFSETFROM:+0000
TZOFFSETTO:+0000
TZNAME:UTC
DTSTART:20250101T000000
END:STANDARD
END:VTIMEZONE
BEGIN:VEVENT
DTSTART;TZID=UTC:20260402T093000
DTEND;TZID=UTC:20260402T103000
DTSTAMP:20260421T124048
CREATED:20260118T142557Z
LAST-MODIFIED:20260217T092646Z
UID:10004482-1775122200-1775125800@www.blaydontennisclub.org.uk
SUMMARY:Thursday Women's Fitness & Coaching
DESCRIPTION:
URL:https://www.blaydontennisclub.org.uk/event/ladies-womens-and-coaching/2026-04-02/
LOCATION:Blaydon Tennis Club\, Blaydon Tennis Club
CATEGORIES:Coaching
END:VEVENT
BEGIN:VEVENT
DTSTART;TZID=UTC:20260402T170000
DTEND;TZID=UTC:20260402T180000
DTSTAMP:20260421T124048
CREATED:20260118T142705Z
LAST-MODIFIED:20260120T120210Z
UID:10004222-1775149200-1775152800@www.blaydontennisclub.org.uk
SUMMARY:Thursday 5-8 Year Olds
DESCRIPTION:
URL:https://www.blaydontennisclub.org.uk/event/thursday-5-8-year-olds/2026-04-02/
LOCATION:Blaydon Tennis Club\, Blaydon Tennis Club
CATEGORIES:Coaching
END:VEVENT
BEGIN:VEVENT
DTSTART;TZID=UTC:20260402T180000
DTEND;TZID=UTC:20260402T193000
DTSTAMP:20260421T124048
CREATED:20260118T142756Z
LAST-MODIFIED:20260120T120205Z
UID:10003962-1775152800-1775158200@www.blaydontennisclub.org.uk
SUMMARY:Thursday Adult Improvers
DESCRIPTION:
URL:https://www.blaydontennisclub.org.uk/event/thursday-adult-improvers/2026-04-02/
LOCATION:Blaydon Tennis Club\, Blaydon Tennis Club
CATEGORIES:Coaching
END:VEVENT
BEGIN:VEVENT
DTSTART;TZID=UTC:20260402T193000
DTEND;TZID=UTC:20260402T210000
DTSTAMP:20260421T124048
CREATED:20260118T142918Z
LAST-MODIFIED:20260120T120158Z
UID:10003702-1775158200-1775163600@www.blaydontennisclub.org.uk
SUMMARY:Thursday Adult Beginners
DESCRIPTION:
URL:https://www.blaydontennisclub.org.uk/event/thursday-adult-beginners/2026-04-02/
LOCATION:Blaydon Tennis Club\, Blaydon Tennis Club
CATEGORIES:Coaching
END:VEVENT
BEGIN:VEVENT
DTSTART;TZID=UTC:20260403T130000
DTEND;TZID=UTC:20260403T153000
DTSTAMP:20260421T124048
CREATED:20260118T140546Z
LAST-MODIFIED:20260120T120152Z
UID:10003442-1775221200-1775230200@www.blaydontennisclub.org.uk
SUMMARY:Friday Afternoon Social
DESCRIPTION:
URL:https://www.blaydontennisclub.org.uk/event/friday-afternoon-social/2026-04-03/
LOCATION:Blaydon Tennis Club\, Blaydon Tennis Club
CATEGORIES:Social
END:VEVENT
BEGIN:VEVENT
DTSTART;TZID=UTC:20260403T170000
DTEND;TZID=UTC:20260403T180000
DTSTAMP:20260421T124048
CREATED:20260118T143059Z
LAST-MODIFIED:20260120T120145Z
UID:10003182-1775235600-1775239200@www.blaydontennisclub.org.uk
SUMMARY:Friday 5-8 Year Olds
DESCRIPTION:
URL:https://www.blaydontennisclub.org.uk/event/friday-5-8-year-olds/2026-04-03/
LOCATION:Blaydon Tennis Club\, Blaydon Tennis Club
CATEGORIES:Coaching
END:VEVENT
BEGIN:VEVENT
DTSTART;TZID=UTC:20260403T173000
DTEND;TZID=UTC:20260403T190000
DTSTAMP:20260421T124048
CREATED:20260118T143217Z
LAST-MODIFIED:20260120T120138Z
UID:10002922-1775237400-1775242800@www.blaydontennisclub.org.uk
SUMMARY:Friday Under 16's Team
DESCRIPTION:
URL:https://www.blaydontennisclub.org.uk/event/friday-under-16s-team/2026-04-03/
LOCATION:Blaydon Tennis Club\, Blaydon Tennis Club
CATEGORIES:Coaching
END:VEVENT
BEGIN:VEVENT
DTSTART;TZID=UTC:20260403T180000
DTEND;TZID=UTC:20260403T190000
DTSTAMP:20260421T124048
CREATED:20260118T143318Z
LAST-MODIFIED:20260120T120131Z
UID:10002662-1775239200-1775242800@www.blaydontennisclub.org.uk
SUMMARY:Friday 9-14 Year Olds
DESCRIPTION:
URL:https://www.blaydontennisclub.org.uk/event/friday-9-14-year-olds/2026-04-03/
LOCATION:Blaydon Tennis Club\, Blaydon Tennis Club
CATEGORIES:Coaching
END:VEVENT
BEGIN:VEVENT
DTSTART;TZID=UTC:20260403T190000
DTEND;TZID=UTC:20260403T203000
DTSTAMP:20260421T124048
CREATED:20260118T143405Z
LAST-MODIFIED:20260120T120123Z
UID:10002402-1775242800-1775248200@www.blaydontennisclub.org.uk
SUMMARY:Friday Under 18's Team
DESCRIPTION:
URL:https://www.blaydontennisclub.org.uk/event/friday-under-18s-team/2026-04-03/
LOCATION:Blaydon Tennis Club\, Blaydon Tennis Club
CATEGORIES:Coaching
END:VEVENT
BEGIN:VEVENT
DTSTART;TZID=UTC:20260404T090000
DTEND;TZID=UTC:20260404T100000
DTSTAMP:20260421T124048
CREATED:20260118T143529Z
LAST-MODIFIED:20260120T120011Z
UID:10002142-1775293200-1775296800@www.blaydontennisclub.org.uk
SUMMARY:Saturday Adult Beginner
DESCRIPTION:
URL:https://www.blaydontennisclub.org.uk/event/saturday-adult-beginner/2026-04-04/
LOCATION:Blaydon Tennis Club\, Blaydon Tennis Club
CATEGORIES:Coaching
END:VEVENT
BEGIN:VEVENT
DTSTART;TZID=UTC:20260404T100000
DTEND;TZID=UTC:20260404T110000
DTSTAMP:20260421T124048
CREATED:20260118T143632Z
LAST-MODIFIED:20260120T120004Z
UID:10001882-1775296800-1775300400@www.blaydontennisclub.org.uk
SUMMARY:Saturday 4-7 Year Olds
DESCRIPTION:
URL:https://www.blaydontennisclub.org.uk/event/saturday-4-7-year-olds/2026-04-04/
LOCATION:Blaydon Tennis Club\, Blaydon Tennis Club
CATEGORIES:Coaching
END:VEVENT
BEGIN:VEVENT
DTSTART;TZID=UTC:20260404T103000
DTEND;TZID=UTC:20260404T120000
DTSTAMP:20260421T124048
CREATED:20260118T143735Z
LAST-MODIFIED:20260120T115957Z
UID:10001622-1775298600-1775304000@www.blaydontennisclub.org.uk
SUMMARY:Saturday Adult Improvers
DESCRIPTION:
URL:https://www.blaydontennisclub.org.uk/event/saturday-adult-improvers/2026-04-04/
LOCATION:Blaydon Tennis Club\, Blaydon Tennis Club
CATEGORIES:Coaching
END:VEVENT
BEGIN:VEVENT
DTSTART;TZID=UTC:20260404T110000
DTEND;TZID=UTC:20260404T120000
DTSTAMP:20260421T124048
CREATED:20260118T143823Z
LAST-MODIFIED:20260120T115930Z
UID:10001362-1775300400-1775304000@www.blaydontennisclub.org.uk
SUMMARY:Saturday 8-10 Year Olds
DESCRIPTION:
URL:https://www.blaydontennisclub.org.uk/event/saturday-8-10-year-olds/2026-04-04/
LOCATION:Blaydon Tennis Club\, Blaydon Tennis Club
CATEGORIES:Coaching
END:VEVENT
BEGIN:VEVENT
DTSTART;TZID=UTC:20260404T110000
DTEND;TZID=UTC:20260404T130000
DTSTAMP:20260421T124048
CREATED:20260118T140635Z
LAST-MODIFIED:20260120T115923Z
UID:10001102-1775300400-1775307600@www.blaydontennisclub.org.uk
SUMMARY:Saturday Morning Social
DESCRIPTION:
URL:https://www.blaydontennisclub.org.uk/event/saturday-morning-social/2026-04-04/
LOCATION:Blaydon Tennis Club\, Blaydon Tennis Club
CATEGORIES:Social
END:VEVENT
BEGIN:VEVENT
DTSTART;TZID=UTC:20260404T120000
DTEND;TZID=UTC:20260404T130000
DTSTAMP:20260421T124048
CREATED:20260118T143924Z
LAST-MODIFIED:20260120T115916Z
UID:10000842-1775304000-1775307600@www.blaydontennisclub.org.uk
SUMMARY:Saturday 10-12 Year Olds
DESCRIPTION:
URL:https://www.blaydontennisclub.org.uk/event/saturday-10-12-year-olds/2026-04-04/
LOCATION:Blaydon Tennis Club\, Blaydon Tennis Club
CATEGORIES:Coaching
END:VEVENT
BEGIN:VEVENT
DTSTART;TZID=UTC:20260404T130000
DTEND;TZID=UTC:20260404T140000
DTSTAMP:20260421T124048
CREATED:20260118T144040Z
LAST-MODIFIED:20260120T115906Z
UID:10000582-1775307600-1775311200@www.blaydontennisclub.org.uk
SUMMARY:Saturday 10-16 Year Olds (Boys Only)
DESCRIPTION:
URL:https://www.blaydontennisclub.org.uk/event/saturday-10-16-year-olds-boys-only/2026-04-04/
LOCATION:Blaydon Tennis Club\, Blaydon Tennis Club
CATEGORIES:Coaching
END:VEVENT
BEGIN:VEVENT
DTSTART;TZID=UTC:20260404T130000
DTEND;TZID=UTC:20260404T160000
DTSTAMP:20260421T124048
CREATED:20260118T140713Z
LAST-MODIFIED:20260120T115856Z
UID:10000322-1775307600-1775318400@www.blaydontennisclub.org.uk
SUMMARY:Saturday Afternoon Social
DESCRIPTION:
URL:https://www.blaydontennisclub.org.uk/event/saturday-afternoon-social/2026-04-04/
LOCATION:Blaydon Tennis Club\, Blaydon Tennis Club
CATEGORIES:Social
END:VEVENT
BEGIN:VEVENT
DTSTART;TZID=UTC:20260404T140000
DTEND;TZID=UTC:20260404T150000
DTSTAMP:20260421T124048
CREATED:20260118T144204Z
LAST-MODIFIED:20260120T115835Z
UID:10000062-1775311200-1775314800@www.blaydontennisclub.org.uk
SUMMARY:Saturday 10-16 Year Olds (Girls Only)
DESCRIPTION:
URL:https://www.blaydontennisclub.org.uk/event/saturday-10-16-year-olds-girls-only/2026-04-04/
LOCATION:Blaydon Tennis Club\, Blaydon Tennis Club
CATEGORIES:Coaching
END:VEVENT
BEGIN:VEVENT
DTSTART;TZID=UTC:20260405T090000
DTEND;TZID=UTC:20260405T120000
DTSTAMP:20260421T124048
CREATED:20260118T135902Z
LAST-MODIFIED:20260120T120455Z
UID:10008128-1775379600-1775390400@www.blaydontennisclub.org.uk
SUMMARY:Sunday Morning Social
DESCRIPTION:
URL:https://www.blaydontennisclub.org.uk/event/sunday-morning-social/2026-04-05/
LOCATION:Blaydon Tennis Club\, Blaydon Tennis Club
CATEGORIES:Social
END:VEVENT
BEGIN:VEVENT
DTSTART;TZID=UTC:20260405T100000
DTEND;TZID=UTC:20260405T113000
DTSTAMP:20260421T124048
CREATED:20260118T141420Z
LAST-MODIFIED:20260120T120449Z
UID:10007867-1775383200-1775388600@www.blaydontennisclub.org.uk
SUMMARY:Sunday Orange Warriors (Invite Only)
DESCRIPTION:
URL:https://www.blaydontennisclub.org.uk/event/sunday-orange-warriors-invite-only/2026-04-05/
LOCATION:Blaydon Tennis Club\, Blaydon Tennis Club
CATEGORIES:Coaching
END:VEVENT
BEGIN:VEVENT
DTSTART;TZID=UTC:20260405T160000
DTEND;TZID=UTC:20260405T180000
DTSTAMP:20260421T124048
CREATED:20260118T135801Z
LAST-MODIFIED:20260120T120443Z
UID:10007606-1775404800-1775412000@www.blaydontennisclub.org.uk
SUMMARY:Sunday Night Social
DESCRIPTION:
URL:https://www.blaydontennisclub.org.uk/event/sunday-night-social/2026-04-05/
LOCATION:Blaydon Tennis Club\, Blaydon Tennis Club
CATEGORIES:Social
END:VEVENT
BEGIN:VEVENT
DTSTART;TZID=UTC:20260406T130000
DTEND;TZID=UTC:20260406T150000
DTSTAMP:20260421T124048
CREATED:20260118T125204Z
LAST-MODIFIED:20260120T120437Z
UID:10007345-1775480400-1775487600@www.blaydontennisclub.org.uk
SUMMARY:Monday Afternoon Social
DESCRIPTION:
URL:https://www.blaydontennisclub.org.uk/event/monday-afternoon-social/2026-04-06/
LOCATION:Blaydon Tennis Club\, Blaydon Tennis Club
CATEGORIES:Social
END:VEVENT
BEGIN:VEVENT
DTSTART;TZID=UTC:20260406T170000
DTEND;TZID=UTC:20260406T200000
DTSTAMP:20260421T124048
CREATED:20260118T135621Z
LAST-MODIFIED:20260120T120431Z
UID:10007084-1775494800-1775505600@www.blaydontennisclub.org.uk
SUMMARY:Monday Night Social
DESCRIPTION:
URL:https://www.blaydontennisclub.org.uk/event/monday-night-social/2026-04-06/
LOCATION:Blaydon Tennis Club\, Blaydon Tennis Club
CATEGORIES:Social
END:VEVENT
BEGIN:VEVENT
DTSTART;TZID=UTC:20260407T180000
DTEND;TZID=UTC:20260407T193000
DTSTAMP:20260421T124048
CREATED:20260118T141245Z
LAST-MODIFIED:20260120T120419Z
UID:10006563-1775584800-1775590200@www.blaydontennisclub.org.uk
SUMMARY:Tuesday 10-16 Year Olds (Girls Only)
DESCRIPTION:
URL:https://www.blaydontennisclub.org.uk/event/tuesday-10-16-year-olds-girls-only/2026-04-07/
LOCATION:Blaydon Tennis Club\, Blaydon Tennis Club
CATEGORIES:Coaching
END:VEVENT
BEGIN:VEVENT
DTSTART;TZID=UTC:20260407T180000
DTEND;TZID=UTC:20260407T203000
DTSTAMP:20260421T124048
CREATED:20260118T140041Z
LAST-MODIFIED:20260217T092708Z
UID:10006303-1775584800-1775593800@www.blaydontennisclub.org.uk
SUMMARY:Tuesday Night Women's Social
DESCRIPTION:
URL:https://www.blaydontennisclub.org.uk/event/tuesday-night-womens-social/2026-04-07/
LOCATION:Blaydon Tennis Club\, Blaydon Tennis Club
CATEGORIES:Social
END:VEVENT
BEGIN:VEVENT
DTSTART;TZID=UTC:20260408T130000
DTEND;TZID=UTC:20260408T153000
DTSTAMP:20260421T124048
CREATED:20260118T140232Z
LAST-MODIFIED:20260120T120406Z
UID:10006043-1775653200-1775662200@www.blaydontennisclub.org.uk
SUMMARY:Wednesday Afternoon Social
DESCRIPTION:
URL:https://www.blaydontennisclub.org.uk/event/wednesday-afternoon-social/2026-04-08/
LOCATION:Blaydon Tennis Club\, Blaydon Tennis Club
CATEGORIES:Social
END:VEVENT
BEGIN:VEVENT
DTSTART;TZID=UTC:20260408T163000
DTEND;TZID=UTC:20260408T180000
DTSTAMP:20260421T124048
CREATED:20260118T141828Z
LAST-MODIFIED:20260120T120359Z
UID:10005783-1775665800-1775671200@www.blaydontennisclub.org.uk
SUMMARY:Wednesday Under 12's Team
DESCRIPTION:
URL:https://www.blaydontennisclub.org.uk/event/wednesday-under-12s-team/2026-04-08/
LOCATION:Blaydon Tennis Club\, Blaydon Tennis Club
CATEGORIES:Coaching
END:VEVENT
BEGIN:VEVENT
DTSTART;TZID=UTC:20260408T170000
DTEND;TZID=UTC:20260408T180000
DTSTAMP:20260421T124048
CREATED:20260118T141935Z
LAST-MODIFIED:20260120T120352Z
UID:10005523-1775667600-1775671200@www.blaydontennisclub.org.uk
SUMMARY:Wednesday 11-16 Year Olds (Beginner/Improver)
DESCRIPTION:
URL:https://www.blaydontennisclub.org.uk/event/wednesday-11-16-year-olds-beginner-improver/2026-04-08/
LOCATION:Blaydon Tennis Club\, Blaydon Tennis Club
CATEGORIES:Coaching
END:VEVENT
BEGIN:VEVENT
DTSTART;TZID=UTC:20260408T170000
DTEND;TZID=UTC:20260408T200000
DTSTAMP:20260421T124048
CREATED:20260118T140318Z
LAST-MODIFIED:20260120T120344Z
UID:10005263-1775667600-1775678400@www.blaydontennisclub.org.uk
SUMMARY:Wednesday Night Men's Social
DESCRIPTION:
URL:https://www.blaydontennisclub.org.uk/event/wednesday-night-mens-social/2026-04-08/
LOCATION:Blaydon Tennis Club\, Blaydon Tennis Club
CATEGORIES:Social
END:VEVENT
BEGIN:VEVENT
DTSTART;TZID=UTC:20260408T180000
DTEND;TZID=UTC:20260408T193000
DTSTAMP:20260421T124048
CREATED:20260118T142017Z
LAST-MODIFIED:20260120T120230Z
UID:10005003-1775671200-1775676600@www.blaydontennisclub.org.uk
SUMMARY:Wednesday Adult Beginners
DESCRIPTION:
URL:https://www.blaydontennisclub.org.uk/event/wednesday-adult-beginners/2026-04-08/
LOCATION:Blaydon Tennis Club\, Blaydon Tennis Club
CATEGORIES:Coaching
END:VEVENT
END:VCALENDAR