BEGIN:VCALENDAR
VERSION:2.0
PRODID:-//Blaydon Tennis Club - ECPv6.15.16//NONSGML v1.0//EN
CALSCALE:GREGORIAN
METHOD:PUBLISH
X-WR-CALNAME:Blaydon Tennis Club
X-ORIGINAL-URL:https://www.blaydontennisclub.org.uk
X-WR-CALDESC:Events for Blaydon Tennis Club
REFRESH-INTERVAL;VALUE=DURATION:PT1H
X-Robots-Tag:noindex
X-PUBLISHED-TTL:PT1H
BEGIN:VTIMEZONE
TZID:UTC
BEGIN:STANDARD
TZOFFSETFROM:+0000
TZOFFSETTO:+0000
TZNAME:UTC
DTSTART:20250101T000000
END:STANDARD
END:VTIMEZONE
BEGIN:VEVENT
DTSTART;TZID=UTC:20261116T130000
DTEND;TZID=UTC:20261116T150000
DTSTAMP:20260420T025816
CREATED:20260118T125204Z
LAST-MODIFIED:20260120T120437Z
UID:10007377-1794834000-1794841200@www.blaydontennisclub.org.uk
SUMMARY:Monday Afternoon Social
DESCRIPTION:
URL:https://www.blaydontennisclub.org.uk/event/monday-afternoon-social/2026-11-16/
LOCATION:Blaydon Tennis Club\, Blaydon Tennis Club
CATEGORIES:Social
END:VEVENT
BEGIN:VEVENT
DTSTART;TZID=UTC:20261116T170000
DTEND;TZID=UTC:20261116T200000
DTSTAMP:20260420T025816
CREATED:20260118T135621Z
LAST-MODIFIED:20260120T120431Z
UID:10007116-1794848400-1794859200@www.blaydontennisclub.org.uk
SUMMARY:Monday Night Social
DESCRIPTION:
URL:https://www.blaydontennisclub.org.uk/event/monday-night-social/2026-11-16/
LOCATION:Blaydon Tennis Club\, Blaydon Tennis Club
CATEGORIES:Social
END:VEVENT
BEGIN:VEVENT
DTSTART;TZID=UTC:20261117T180000
DTEND;TZID=UTC:20261117T203000
DTSTAMP:20260420T025816
CREATED:20260118T140041Z
LAST-MODIFIED:20260217T092708Z
UID:10006335-1794938400-1794947400@www.blaydontennisclub.org.uk
SUMMARY:Tuesday Night Women's Social
DESCRIPTION:
URL:https://www.blaydontennisclub.org.uk/event/tuesday-night-womens-social/2026-11-17/
LOCATION:Blaydon Tennis Club\, Blaydon Tennis Club
CATEGORIES:Social
END:VEVENT
BEGIN:VEVENT
DTSTART;TZID=UTC:20261118T130000
DTEND;TZID=UTC:20261118T153000
DTSTAMP:20260420T025816
CREATED:20260118T140232Z
LAST-MODIFIED:20260120T120406Z
UID:10006075-1795006800-1795015800@www.blaydontennisclub.org.uk
SUMMARY:Wednesday Afternoon Social
DESCRIPTION:
URL:https://www.blaydontennisclub.org.uk/event/wednesday-afternoon-social/2026-11-18/
LOCATION:Blaydon Tennis Club\, Blaydon Tennis Club
CATEGORIES:Social
END:VEVENT
BEGIN:VEVENT
DTSTART;TZID=UTC:20261118T170000
DTEND;TZID=UTC:20261118T200000
DTSTAMP:20260420T025816
CREATED:20260118T140318Z
LAST-MODIFIED:20260120T120344Z
UID:10005295-1795021200-1795032000@www.blaydontennisclub.org.uk
SUMMARY:Wednesday Night Men's Social
DESCRIPTION:
URL:https://www.blaydontennisclub.org.uk/event/wednesday-night-mens-social/2026-11-18/
LOCATION:Blaydon Tennis Club\, Blaydon Tennis Club
CATEGORIES:Social
END:VEVENT
BEGIN:VEVENT
DTSTART;TZID=UTC:20261120T130000
DTEND;TZID=UTC:20261120T153000
DTSTAMP:20260420T025816
CREATED:20260118T140546Z
LAST-MODIFIED:20260120T120152Z
UID:10003475-1795179600-1795188600@www.blaydontennisclub.org.uk
SUMMARY:Friday Afternoon Social
DESCRIPTION:
URL:https://www.blaydontennisclub.org.uk/event/friday-afternoon-social/2026-11-20/
LOCATION:Blaydon Tennis Club\, Blaydon Tennis Club
CATEGORIES:Social
END:VEVENT
BEGIN:VEVENT
DTSTART;TZID=UTC:20261121T110000
DTEND;TZID=UTC:20261121T130000
DTSTAMP:20260420T025816
CREATED:20260118T140635Z
LAST-MODIFIED:20260120T115923Z
UID:10001135-1795258800-1795266000@www.blaydontennisclub.org.uk
SUMMARY:Saturday Morning Social
DESCRIPTION:
URL:https://www.blaydontennisclub.org.uk/event/saturday-morning-social/2026-11-21/
LOCATION:Blaydon Tennis Club\, Blaydon Tennis Club
CATEGORIES:Social
END:VEVENT
BEGIN:VEVENT
DTSTART;TZID=UTC:20261121T130000
DTEND;TZID=UTC:20261121T160000
DTSTAMP:20260420T025816
CREATED:20260118T140713Z
LAST-MODIFIED:20260120T115856Z
UID:10000355-1795266000-1795276800@www.blaydontennisclub.org.uk
SUMMARY:Saturday Afternoon Social
DESCRIPTION:
URL:https://www.blaydontennisclub.org.uk/event/saturday-afternoon-social/2026-11-21/
LOCATION:Blaydon Tennis Club\, Blaydon Tennis Club
CATEGORIES:Social
END:VEVENT
BEGIN:VEVENT
DTSTART;TZID=UTC:20261122T090000
DTEND;TZID=UTC:20261122T120000
DTSTAMP:20260420T025816
CREATED:20260118T135902Z
LAST-MODIFIED:20260120T120455Z
UID:10008161-1795338000-1795348800@www.blaydontennisclub.org.uk
SUMMARY:Sunday Morning Social
DESCRIPTION:
URL:https://www.blaydontennisclub.org.uk/event/sunday-morning-social/2026-11-22/
LOCATION:Blaydon Tennis Club\, Blaydon Tennis Club
CATEGORIES:Social
END:VEVENT
BEGIN:VEVENT
DTSTART;TZID=UTC:20261122T160000
DTEND;TZID=UTC:20261122T180000
DTSTAMP:20260420T025816
CREATED:20260118T135801Z
LAST-MODIFIED:20260120T120443Z
UID:10007639-1795363200-1795370400@www.blaydontennisclub.org.uk
SUMMARY:Sunday Night Social
DESCRIPTION:
URL:https://www.blaydontennisclub.org.uk/event/sunday-night-social/2026-11-22/
LOCATION:Blaydon Tennis Club\, Blaydon Tennis Club
CATEGORIES:Social
END:VEVENT
BEGIN:VEVENT
DTSTART;TZID=UTC:20261123T130000
DTEND;TZID=UTC:20261123T150000
DTSTAMP:20260420T025816
CREATED:20260118T125204Z
LAST-MODIFIED:20260120T120437Z
UID:10007378-1795438800-1795446000@www.blaydontennisclub.org.uk
SUMMARY:Monday Afternoon Social
DESCRIPTION:
URL:https://www.blaydontennisclub.org.uk/event/monday-afternoon-social/2026-11-23/
LOCATION:Blaydon Tennis Club\, Blaydon Tennis Club
CATEGORIES:Social
END:VEVENT
BEGIN:VEVENT
DTSTART;TZID=UTC:20261123T170000
DTEND;TZID=UTC:20261123T200000
DTSTAMP:20260420T025816
CREATED:20260118T135621Z
LAST-MODIFIED:20260120T120431Z
UID:10007117-1795453200-1795464000@www.blaydontennisclub.org.uk
SUMMARY:Monday Night Social
DESCRIPTION:
URL:https://www.blaydontennisclub.org.uk/event/monday-night-social/2026-11-23/
LOCATION:Blaydon Tennis Club\, Blaydon Tennis Club
CATEGORIES:Social
END:VEVENT
BEGIN:VEVENT
DTSTART;TZID=UTC:20261124T180000
DTEND;TZID=UTC:20261124T203000
DTSTAMP:20260420T025816
CREATED:20260118T140041Z
LAST-MODIFIED:20260217T092708Z
UID:10006336-1795543200-1795552200@www.blaydontennisclub.org.uk
SUMMARY:Tuesday Night Women's Social
DESCRIPTION:
URL:https://www.blaydontennisclub.org.uk/event/tuesday-night-womens-social/2026-11-24/
LOCATION:Blaydon Tennis Club\, Blaydon Tennis Club
CATEGORIES:Social
END:VEVENT
BEGIN:VEVENT
DTSTART;TZID=UTC:20261125T130000
DTEND;TZID=UTC:20261125T153000
DTSTAMP:20260420T025816
CREATED:20260118T140232Z
LAST-MODIFIED:20260120T120406Z
UID:10006076-1795611600-1795620600@www.blaydontennisclub.org.uk
SUMMARY:Wednesday Afternoon Social
DESCRIPTION:
URL:https://www.blaydontennisclub.org.uk/event/wednesday-afternoon-social/2026-11-25/
LOCATION:Blaydon Tennis Club\, Blaydon Tennis Club
CATEGORIES:Social
END:VEVENT
BEGIN:VEVENT
DTSTART;TZID=UTC:20261125T170000
DTEND;TZID=UTC:20261125T200000
DTSTAMP:20260420T025816
CREATED:20260118T140318Z
LAST-MODIFIED:20260120T120344Z
UID:10005296-1795626000-1795636800@www.blaydontennisclub.org.uk
SUMMARY:Wednesday Night Men's Social
DESCRIPTION:
URL:https://www.blaydontennisclub.org.uk/event/wednesday-night-mens-social/2026-11-25/
LOCATION:Blaydon Tennis Club\, Blaydon Tennis Club
CATEGORIES:Social
END:VEVENT
BEGIN:VEVENT
DTSTART;TZID=UTC:20261127T130000
DTEND;TZID=UTC:20261127T153000
DTSTAMP:20260420T025816
CREATED:20260118T140546Z
LAST-MODIFIED:20260120T120152Z
UID:10003476-1795784400-1795793400@www.blaydontennisclub.org.uk
SUMMARY:Friday Afternoon Social
DESCRIPTION:
URL:https://www.blaydontennisclub.org.uk/event/friday-afternoon-social/2026-11-27/
LOCATION:Blaydon Tennis Club\, Blaydon Tennis Club
CATEGORIES:Social
END:VEVENT
BEGIN:VEVENT
DTSTART;TZID=UTC:20261128T110000
DTEND;TZID=UTC:20261128T130000
DTSTAMP:20260420T025816
CREATED:20260118T140635Z
LAST-MODIFIED:20260120T115923Z
UID:10001136-1795863600-1795870800@www.blaydontennisclub.org.uk
SUMMARY:Saturday Morning Social
DESCRIPTION:
URL:https://www.blaydontennisclub.org.uk/event/saturday-morning-social/2026-11-28/
LOCATION:Blaydon Tennis Club\, Blaydon Tennis Club
CATEGORIES:Social
END:VEVENT
BEGIN:VEVENT
DTSTART;TZID=UTC:20261128T130000
DTEND;TZID=UTC:20261128T160000
DTSTAMP:20260420T025816
CREATED:20260118T140713Z
LAST-MODIFIED:20260120T115856Z
UID:10000356-1795870800-1795881600@www.blaydontennisclub.org.uk
SUMMARY:Saturday Afternoon Social
DESCRIPTION:
URL:https://www.blaydontennisclub.org.uk/event/saturday-afternoon-social/2026-11-28/
LOCATION:Blaydon Tennis Club\, Blaydon Tennis Club
CATEGORIES:Social
END:VEVENT
BEGIN:VEVENT
DTSTART;TZID=UTC:20261129T090000
DTEND;TZID=UTC:20261129T120000
DTSTAMP:20260420T025816
CREATED:20260118T135902Z
LAST-MODIFIED:20260120T120455Z
UID:10008162-1795942800-1795953600@www.blaydontennisclub.org.uk
SUMMARY:Sunday Morning Social
DESCRIPTION:
URL:https://www.blaydontennisclub.org.uk/event/sunday-morning-social/2026-11-29/
LOCATION:Blaydon Tennis Club\, Blaydon Tennis Club
CATEGORIES:Social
END:VEVENT
BEGIN:VEVENT
DTSTART;TZID=UTC:20261129T160000
DTEND;TZID=UTC:20261129T180000
DTSTAMP:20260420T025816
CREATED:20260118T135801Z
LAST-MODIFIED:20260120T120443Z
UID:10007640-1795968000-1795975200@www.blaydontennisclub.org.uk
SUMMARY:Sunday Night Social
DESCRIPTION:
URL:https://www.blaydontennisclub.org.uk/event/sunday-night-social/2026-11-29/
LOCATION:Blaydon Tennis Club\, Blaydon Tennis Club
CATEGORIES:Social
END:VEVENT
BEGIN:VEVENT
DTSTART;TZID=UTC:20261130T130000
DTEND;TZID=UTC:20261130T150000
DTSTAMP:20260420T025816
CREATED:20260118T125204Z
LAST-MODIFIED:20260120T120437Z
UID:10007379-1796043600-1796050800@www.blaydontennisclub.org.uk
SUMMARY:Monday Afternoon Social
DESCRIPTION:
URL:https://www.blaydontennisclub.org.uk/event/monday-afternoon-social/2026-11-30/
LOCATION:Blaydon Tennis Club\, Blaydon Tennis Club
CATEGORIES:Social
END:VEVENT
BEGIN:VEVENT
DTSTART;TZID=UTC:20261130T170000
DTEND;TZID=UTC:20261130T200000
DTSTAMP:20260420T025816
CREATED:20260118T135621Z
LAST-MODIFIED:20260120T120431Z
UID:10007118-1796058000-1796068800@www.blaydontennisclub.org.uk
SUMMARY:Monday Night Social
DESCRIPTION:
URL:https://www.blaydontennisclub.org.uk/event/monday-night-social/2026-11-30/
LOCATION:Blaydon Tennis Club\, Blaydon Tennis Club
CATEGORIES:Social
END:VEVENT
BEGIN:VEVENT
DTSTART;TZID=UTC:20261201T180000
DTEND;TZID=UTC:20261201T203000
DTSTAMP:20260420T025816
CREATED:20260118T140041Z
LAST-MODIFIED:20260217T092708Z
UID:10006337-1796148000-1796157000@www.blaydontennisclub.org.uk
SUMMARY:Tuesday Night Women's Social
DESCRIPTION:
URL:https://www.blaydontennisclub.org.uk/event/tuesday-night-womens-social/2026-12-01/
LOCATION:Blaydon Tennis Club\, Blaydon Tennis Club
CATEGORIES:Social
END:VEVENT
BEGIN:VEVENT
DTSTART;TZID=UTC:20261202T130000
DTEND;TZID=UTC:20261202T153000
DTSTAMP:20260420T025816
CREATED:20260118T140232Z
LAST-MODIFIED:20260120T120406Z
UID:10006077-1796216400-1796225400@www.blaydontennisclub.org.uk
SUMMARY:Wednesday Afternoon Social
DESCRIPTION:
URL:https://www.blaydontennisclub.org.uk/event/wednesday-afternoon-social/2026-12-02/
LOCATION:Blaydon Tennis Club\, Blaydon Tennis Club
CATEGORIES:Social
END:VEVENT
BEGIN:VEVENT
DTSTART;TZID=UTC:20261202T170000
DTEND;TZID=UTC:20261202T200000
DTSTAMP:20260420T025816
CREATED:20260118T140318Z
LAST-MODIFIED:20260120T120344Z
UID:10005297-1796230800-1796241600@www.blaydontennisclub.org.uk
SUMMARY:Wednesday Night Men's Social
DESCRIPTION:
URL:https://www.blaydontennisclub.org.uk/event/wednesday-night-mens-social/2026-12-02/
LOCATION:Blaydon Tennis Club\, Blaydon Tennis Club
CATEGORIES:Social
END:VEVENT
BEGIN:VEVENT
DTSTART;TZID=UTC:20261204T130000
DTEND;TZID=UTC:20261204T153000
DTSTAMP:20260420T025816
CREATED:20260118T140546Z
LAST-MODIFIED:20260120T120152Z
UID:10003477-1796389200-1796398200@www.blaydontennisclub.org.uk
SUMMARY:Friday Afternoon Social
DESCRIPTION:
URL:https://www.blaydontennisclub.org.uk/event/friday-afternoon-social/2026-12-04/
LOCATION:Blaydon Tennis Club\, Blaydon Tennis Club
CATEGORIES:Social
END:VEVENT
BEGIN:VEVENT
DTSTART;TZID=UTC:20261205T110000
DTEND;TZID=UTC:20261205T130000
DTSTAMP:20260420T025816
CREATED:20260118T140635Z
LAST-MODIFIED:20260120T115923Z
UID:10001137-1796468400-1796475600@www.blaydontennisclub.org.uk
SUMMARY:Saturday Morning Social
DESCRIPTION:
URL:https://www.blaydontennisclub.org.uk/event/saturday-morning-social/2026-12-05/
LOCATION:Blaydon Tennis Club\, Blaydon Tennis Club
CATEGORIES:Social
END:VEVENT
BEGIN:VEVENT
DTSTART;TZID=UTC:20261205T130000
DTEND;TZID=UTC:20261205T160000
DTSTAMP:20260420T025816
CREATED:20260118T140713Z
LAST-MODIFIED:20260120T115856Z
UID:10000357-1796475600-1796486400@www.blaydontennisclub.org.uk
SUMMARY:Saturday Afternoon Social
DESCRIPTION:
URL:https://www.blaydontennisclub.org.uk/event/saturday-afternoon-social/2026-12-05/
LOCATION:Blaydon Tennis Club\, Blaydon Tennis Club
CATEGORIES:Social
END:VEVENT
BEGIN:VEVENT
DTSTART;TZID=UTC:20261206T090000
DTEND;TZID=UTC:20261206T120000
DTSTAMP:20260420T025816
CREATED:20260118T135902Z
LAST-MODIFIED:20260120T120455Z
UID:10008163-1796547600-1796558400@www.blaydontennisclub.org.uk
SUMMARY:Sunday Morning Social
DESCRIPTION:
URL:https://www.blaydontennisclub.org.uk/event/sunday-morning-social/2026-12-06/
LOCATION:Blaydon Tennis Club\, Blaydon Tennis Club
CATEGORIES:Social
END:VEVENT
BEGIN:VEVENT
DTSTART;TZID=UTC:20261206T160000
DTEND;TZID=UTC:20261206T180000
DTSTAMP:20260420T025816
CREATED:20260118T135801Z
LAST-MODIFIED:20260120T120443Z
UID:10007641-1796572800-1796580000@www.blaydontennisclub.org.uk
SUMMARY:Sunday Night Social
DESCRIPTION:
URL:https://www.blaydontennisclub.org.uk/event/sunday-night-social/2026-12-06/
LOCATION:Blaydon Tennis Club\, Blaydon Tennis Club
CATEGORIES:Social
END:VEVENT
END:VCALENDAR