BEGIN:VCALENDAR
VERSION:2.0
PRODID:-//Blaydon Tennis Club - ECPv6.15.16//NONSGML v1.0//EN
CALSCALE:GREGORIAN
METHOD:PUBLISH
X-WR-CALNAME:Blaydon Tennis Club
X-ORIGINAL-URL:https://www.blaydontennisclub.org.uk
X-WR-CALDESC:Events for Blaydon Tennis Club
REFRESH-INTERVAL;VALUE=DURATION:PT1H
X-Robots-Tag:noindex
X-PUBLISHED-TTL:PT1H
BEGIN:VTIMEZONE
TZID:UTC
BEGIN:STANDARD
TZOFFSETFROM:+0000
TZOFFSETTO:+0000
TZNAME:UTC
DTSTART:20250101T000000
END:STANDARD
END:VTIMEZONE
BEGIN:VEVENT
DTSTART;TZID=UTC:20260418T090000
DTEND;TZID=UTC:20260418T100000
DTSTAMP:20260420T081423
CREATED:20260118T143529Z
LAST-MODIFIED:20260120T120011Z
UID:10002144-1776502800-1776506400@www.blaydontennisclub.org.uk
SUMMARY:Saturday Adult Beginner
DESCRIPTION:
URL:https://www.blaydontennisclub.org.uk/event/saturday-adult-beginner/2026-04-18/
LOCATION:Blaydon Tennis Club\, Blaydon Tennis Club
CATEGORIES:Coaching
END:VEVENT
BEGIN:VEVENT
DTSTART;TZID=UTC:20260418T100000
DTEND;TZID=UTC:20260418T110000
DTSTAMP:20260420T081423
CREATED:20260118T143632Z
LAST-MODIFIED:20260120T120004Z
UID:10001884-1776506400-1776510000@www.blaydontennisclub.org.uk
SUMMARY:Saturday 4-7 Year Olds
DESCRIPTION:
URL:https://www.blaydontennisclub.org.uk/event/saturday-4-7-year-olds/2026-04-18/
LOCATION:Blaydon Tennis Club\, Blaydon Tennis Club
CATEGORIES:Coaching
END:VEVENT
BEGIN:VEVENT
DTSTART;TZID=UTC:20260418T103000
DTEND;TZID=UTC:20260418T120000
DTSTAMP:20260420T081423
CREATED:20260118T143735Z
LAST-MODIFIED:20260120T115957Z
UID:10001624-1776508200-1776513600@www.blaydontennisclub.org.uk
SUMMARY:Saturday Adult Improvers
DESCRIPTION:
URL:https://www.blaydontennisclub.org.uk/event/saturday-adult-improvers/2026-04-18/
LOCATION:Blaydon Tennis Club\, Blaydon Tennis Club
CATEGORIES:Coaching
END:VEVENT
BEGIN:VEVENT
DTSTART;TZID=UTC:20260418T110000
DTEND;TZID=UTC:20260418T120000
DTSTAMP:20260420T081423
CREATED:20260118T143823Z
LAST-MODIFIED:20260120T115930Z
UID:10001364-1776510000-1776513600@www.blaydontennisclub.org.uk
SUMMARY:Saturday 8-10 Year Olds
DESCRIPTION:
URL:https://www.blaydontennisclub.org.uk/event/saturday-8-10-year-olds/2026-04-18/
LOCATION:Blaydon Tennis Club\, Blaydon Tennis Club
CATEGORIES:Coaching
END:VEVENT
BEGIN:VEVENT
DTSTART;TZID=UTC:20260418T110000
DTEND;TZID=UTC:20260418T130000
DTSTAMP:20260420T081423
CREATED:20260118T140635Z
LAST-MODIFIED:20260120T115923Z
UID:10001104-1776510000-1776517200@www.blaydontennisclub.org.uk
SUMMARY:Saturday Morning Social
DESCRIPTION:
URL:https://www.blaydontennisclub.org.uk/event/saturday-morning-social/2026-04-18/
LOCATION:Blaydon Tennis Club\, Blaydon Tennis Club
CATEGORIES:Social
END:VEVENT
BEGIN:VEVENT
DTSTART;TZID=UTC:20260418T120000
DTEND;TZID=UTC:20260418T130000
DTSTAMP:20260420T081423
CREATED:20260118T143924Z
LAST-MODIFIED:20260120T115916Z
UID:10000844-1776513600-1776517200@www.blaydontennisclub.org.uk
SUMMARY:Saturday 10-12 Year Olds
DESCRIPTION:
URL:https://www.blaydontennisclub.org.uk/event/saturday-10-12-year-olds/2026-04-18/
LOCATION:Blaydon Tennis Club\, Blaydon Tennis Club
CATEGORIES:Coaching
END:VEVENT
BEGIN:VEVENT
DTSTART;TZID=UTC:20260418T130000
DTEND;TZID=UTC:20260418T140000
DTSTAMP:20260420T081423
CREATED:20260118T144040Z
LAST-MODIFIED:20260120T115906Z
UID:10000584-1776517200-1776520800@www.blaydontennisclub.org.uk
SUMMARY:Saturday 10-16 Year Olds (Boys Only)
DESCRIPTION:
URL:https://www.blaydontennisclub.org.uk/event/saturday-10-16-year-olds-boys-only/2026-04-18/
LOCATION:Blaydon Tennis Club\, Blaydon Tennis Club
CATEGORIES:Coaching
END:VEVENT
BEGIN:VEVENT
DTSTART;TZID=UTC:20260418T130000
DTEND;TZID=UTC:20260418T160000
DTSTAMP:20260420T081423
CREATED:20260118T140713Z
LAST-MODIFIED:20260120T115856Z
UID:10000324-1776517200-1776528000@www.blaydontennisclub.org.uk
SUMMARY:Saturday Afternoon Social
DESCRIPTION:
URL:https://www.blaydontennisclub.org.uk/event/saturday-afternoon-social/2026-04-18/
LOCATION:Blaydon Tennis Club\, Blaydon Tennis Club
CATEGORIES:Social
END:VEVENT
BEGIN:VEVENT
DTSTART;TZID=UTC:20260418T140000
DTEND;TZID=UTC:20260418T150000
DTSTAMP:20260420T081423
CREATED:20260118T144204Z
LAST-MODIFIED:20260120T115835Z
UID:10000064-1776520800-1776524400@www.blaydontennisclub.org.uk
SUMMARY:Saturday 10-16 Year Olds (Girls Only)
DESCRIPTION:
URL:https://www.blaydontennisclub.org.uk/event/saturday-10-16-year-olds-girls-only/2026-04-18/
LOCATION:Blaydon Tennis Club\, Blaydon Tennis Club
CATEGORIES:Coaching
END:VEVENT
END:VCALENDAR